BEGIN:VCALENDAR
VERSION:2.0
PRODID:-//Friends of the Buena Vista River Park - ECPv6.15.20//NONSGML v1.0//EN
CALSCALE:GREGORIAN
METHOD:PUBLISH
X-WR-CALNAME:Friends of the Buena Vista River Park
X-ORIGINAL-URL:https://bvrp.org
X-WR-CALDESC:Events for Friends of the Buena Vista River Park
REFRESH-INTERVAL;VALUE=DURATION:PT1H
X-Robots-Tag:noindex
X-PUBLISHED-TTL:PT1H
BEGIN:VTIMEZONE
TZID:UTC
BEGIN:STANDARD
TZOFFSETFROM:+0000
TZOFFSETTO:+0000
TZNAME:UTC
DTSTART:20230101T000000
END:STANDARD
END:VTIMEZONE
BEGIN:VTIMEZONE
TZID:America/Denver
BEGIN:DAYLIGHT
TZOFFSETFROM:-0700
TZOFFSETTO:-0600
TZNAME:MDT
DTSTART:20230312T090000
END:DAYLIGHT
BEGIN:STANDARD
TZOFFSETFROM:-0600
TZOFFSETTO:-0700
TZNAME:MST
DTSTART:20231105T080000
END:STANDARD
BEGIN:DAYLIGHT
TZOFFSETFROM:-0700
TZOFFSETTO:-0600
TZNAME:MDT
DTSTART:20240310T090000
END:DAYLIGHT
BEGIN:STANDARD
TZOFFSETFROM:-0600
TZOFFSETTO:-0700
TZNAME:MST
DTSTART:20241103T080000
END:STANDARD
BEGIN:DAYLIGHT
TZOFFSETFROM:-0700
TZOFFSETTO:-0600
TZNAME:MDT
DTSTART:20250309T090000
END:DAYLIGHT
BEGIN:STANDARD
TZOFFSETFROM:-0600
TZOFFSETTO:-0700
TZNAME:MST
DTSTART:20251102T080000
END:STANDARD
END:VTIMEZONE
BEGIN:VEVENT
DTSTART;VALUE=DATE:20250523
DTEND;VALUE=DATE:20250527
DTSTAMP:20260423T161108
CREATED:20250519T213915Z
LAST-MODIFIED:20250519T213946Z
UID:9182-1747958400-1748303999@bvrp.org
SUMMARY:CKS Paddlefest
DESCRIPTION:River enthusiasts\, world class athletes\, lovers of the outdoors\, family and friends from all around come together this Memorial Day weekend to kick off another season of whitewater paddling in the Arkansas River Valley! \nThere is an adventure here for everyone. From high energy kayak rodeos\, surf and raft competitions\, and free clinics led by the pros\, to easy going group floats\, local art\, live music and time simply spent enjoying the magic of the season ahead. \nThis is a weekend full of fun and celebration supporting Friends of the Buena Vista River Park. \nCKS River Supply will be hosting a huge gear swap and storewide sale throughout this weekend and whitewater pros from many of the most sought after brands will be present in the shop to support you in getting outfitted for your next awesome adventure!
URL:https://bvrp.org/event/cks-paddlefest-2/
LOCATION:Buena Vista\, CO
ATTACH;FMTTYPE=image/jpeg:https://bvrp.org/wp-content/uploads/2025/05/496084592_18382113367185653_6807939624226045643_n.jpg
END:VEVENT
BEGIN:VEVENT
DTSTART;TZID=UTC:20240907T090000
DTEND;TZID=UTC:20240907T100000
DTSTAMP:20260423T161108
CREATED:20240627T225512Z
LAST-MODIFIED:20240627T225512Z
UID:9028-1725699600-1725703200@bvrp.org
SUMMARY:River Park Clean Up
DESCRIPTION:Help us keep the river park clean! Any and all are welcome to join us as we pick up trash and lost items in the river park. Meet at 9AM at the staircase parking lot\, trash bags and gloves will be provided.
URL:https://bvrp.org/event/river-park-clean-up-3/
ATTACH;FMTTYPE=image/jpeg:https://bvrp.org/wp-content/uploads/2024/06/20240620_164611-scaled.jpg
END:VEVENT
BEGIN:VEVENT
DTSTART;TZID=UTC:20240803T090000
DTEND;TZID=UTC:20240803T100000
DTSTAMP:20260423T161108
CREATED:20240627T225247Z
LAST-MODIFIED:20240627T225247Z
UID:9026-1722675600-1722679200@bvrp.org
SUMMARY:River Park Clean up
DESCRIPTION:Help us keep the river park clean! Any and all are welcome to join us as we pick up trash and lost items in the river park. Meet at 9AM at the staircase parking lot\, trash bags and gloves will be provided.
URL:https://bvrp.org/event/river-park-clean-up-2/
ATTACH;FMTTYPE=image/jpeg:https://bvrp.org/wp-content/uploads/2024/06/20240620_164611-scaled.jpg
END:VEVENT
BEGIN:VEVENT
DTSTART;TZID=UTC:20240730T180000
DTEND;TZID=UTC:20240730T200000
DTSTAMP:20260423T161108
CREATED:20240719T192317Z
LAST-MODIFIED:20240719T192505Z
UID:9048-1722362400-1722369600@bvrp.org
SUMMARY:Benefit Night at the Terrace On Main
DESCRIPTION:Hosted by: 8z Real Estate and the Terrace On Main \nCome meet the foBVRP team and enjoy a drink at the stunning Terrace On Main. \n20% of all food and drink sales will be donated to Friends of the Buena Vista River Park.
URL:https://bvrp.org/event/benefit-night-at-the-terrace-on-main/
LOCATION:Terrace On Main\, 330 E Main St\, Buena Vista\, CO\, 81211\, United States
ATTACH;FMTTYPE=image/png:https://bvrp.org/wp-content/uploads/2024/07/Benefit-Night2-e1721417084124.png
END:VEVENT
BEGIN:VEVENT
DTSTART;TZID=UTC:20240706T090000
DTEND;TZID=UTC:20240706T100000
DTSTAMP:20260423T161108
CREATED:20240627T224616Z
LAST-MODIFIED:20240627T225055Z
UID:9018-1720256400-1720260000@bvrp.org
SUMMARY:River Park Clean Up
DESCRIPTION:Help us keep the river park clean! Any and all are welcome to join us as we pick up trash and lost items in the river park. Meet at 9AM at the staircase parking lot\, trash bags and gloves will be provided.
URL:https://bvrp.org/event/river-park-clean-up/
ATTACH;FMTTYPE=image/jpeg:https://bvrp.org/wp-content/uploads/2024/06/20240620_164611-scaled.jpg
END:VEVENT
BEGIN:VEVENT
DTSTART;VALUE=DATE:20240523
DTEND;VALUE=DATE:20240528
DTSTAMP:20260423T161108
CREATED:20240507T034817Z
LAST-MODIFIED:20240507T040235Z
UID:8682-1716422400-1716854399@bvrp.org
SUMMARY:CKS Paddlefest
DESCRIPTION:River enthusiasts\, world class athletes\, lovers of the outdoors\, family and friends from all around come together this Memorial Day weekend to kick off another season of whitewater paddling in the Arkansas River Valley! \nThere is an adventure here for everyone. From high energy kayak rodeos\, surf and raft competitions\, and free clinics led by the pros\, to easy going group floats\, local art\, live music and time simply spent enjoying the magic of the season ahead. \nThis is a weekend full of fun and celebration! \nCKS River Supply will be hosting a huge gear swap and storewide sale throughout this weekend and whitewater pros from many of the most sought after brands will be present in the shop to support you in getting outfitted for your next awesome adventure!
URL:https://bvrp.org/event/cks-paddlefest/
LOCATION:Buena Vista\, CO
ATTACH;FMTTYPE=image/jpeg:https://bvrp.org/wp-content/uploads/2024/05/438844025_1157745665287253_4832743090796761340_n-e1715054302346.jpg
END:VEVENT
END:VCALENDAR